BEGIN:VCALENDAR
VERSION:2.0
PRODID:-//DarkHorse - ECPv6.15.12.2//NONSGML v1.0//EN
CALSCALE:GREGORIAN
METHOD:PUBLISH
X-ORIGINAL-URL:https://darkhorseflinthill.com
X-WR-CALDESC:Events for DarkHorse
REFRESH-INTERVAL;VALUE=DURATION:PT1H
X-Robots-Tag:noindex
X-PUBLISHED-TTL:PT1H
BEGIN:VTIMEZONE
TZID:America/New_York
BEGIN:DAYLIGHT
TZOFFSETFROM:-0500
TZOFFSETTO:-0400
TZNAME:EDT
DTSTART:20250309T070000
END:DAYLIGHT
BEGIN:STANDARD
TZOFFSETFROM:-0400
TZOFFSETTO:-0500
TZNAME:EST
DTSTART:20251102T060000
END:STANDARD
BEGIN:DAYLIGHT
TZOFFSETFROM:-0500
TZOFFSETTO:-0400
TZNAME:EDT
DTSTART:20260308T070000
END:DAYLIGHT
BEGIN:STANDARD
TZOFFSETFROM:-0400
TZOFFSETTO:-0500
TZNAME:EST
DTSTART:20261101T060000
END:STANDARD
BEGIN:DAYLIGHT
TZOFFSETFROM:-0500
TZOFFSETTO:-0400
TZNAME:EDT
DTSTART:20270314T070000
END:DAYLIGHT
BEGIN:STANDARD
TZOFFSETFROM:-0400
TZOFFSETTO:-0500
TZNAME:EST
DTSTART:20271107T060000
END:STANDARD
END:VTIMEZONE
BEGIN:VEVENT
DTSTART;TZID=America/New_York:20260205T183000
DTEND;TZID=America/New_York:20260205T193000
DTSTAMP:20260419T125318
CREATED:20260121T012348Z
LAST-MODIFIED:20260121T012348Z
UID:2580-1770316200-1770319800@darkhorseflinthill.com
SUMMARY:Trivia Night
DESCRIPTION:Grab your friends and give it your best shot!
URL:https://darkhorseflinthill.com/event-calendar/trivia-night-12/
LOCATION:The Dark Horse Irish Pub\, 659 Zachary Taylor Hwy\, Flint Hill\, VA\, 22627\, United States
CATEGORIES:Trivia
ATTACH;FMTTYPE=image/png:https://darkhorseflinthill.com/wp-content/uploads/2023/05/trivia.png
END:VEVENT
BEGIN:VEVENT
DTSTART;TZID=America/New_York:20260206T190000
DTEND;TZID=America/New_York:20260206T220000
DTSTAMP:20260419T125318
CREATED:20260121T011729Z
LAST-MODIFIED:20260121T011729Z
UID:2551-1770404400-1770415200@darkhorseflinthill.com
SUMMARY:Rocky Guttman
DESCRIPTION:Rocky’s been playing pubs and clubs in the DC and Northern Virginia area for quite a while\, sharing his talents\, along with his wit\, to everyone who comes to see him! Never a dull moment and always a great time!
URL:https://darkhorseflinthill.com/event-calendar/rocky-guttman-2/
LOCATION:The Dark Horse Irish Pub\, 659 Zachary Taylor Hwy\, Flint Hill\, VA\, 22627\, United States
CATEGORIES:Music
ATTACH;FMTTYPE=image/webp:https://darkhorseflinthill.com/wp-content/uploads/2026/01/Rocky-Guttman.webp
END:VEVENT
BEGIN:VEVENT
DTSTART;TZID=America/New_York:20260207T190000
DTEND;TZID=America/New_York:20260207T220000
DTSTAMP:20260419T125318
CREATED:20260121T011955Z
LAST-MODIFIED:20260121T011955Z
UID:2574-1770490800-1770501600@darkhorseflinthill.com
SUMMARY:Rusty Paws
DESCRIPTION:A modern Appalachian troubadour from the heart of the Shenandoah Valley\, Rusty Paws brings a style unlike any other!
URL:https://darkhorseflinthill.com/event-calendar/rusty-paws/
LOCATION:The Dark Horse Irish Pub\, 659 Zachary Taylor Hwy\, Flint Hill\, VA\, 22627\, United States
CATEGORIES:Music
ATTACH;FMTTYPE=image/jpeg:https://darkhorseflinthill.com/wp-content/uploads/2026/01/Rusty-Paws.jpg
END:VEVENT
BEGIN:VEVENT
DTSTART;TZID=America/New_York:20260212T183000
DTEND;TZID=America/New_York:20260212T193000
DTSTAMP:20260419T125318
CREATED:20260121T012446Z
LAST-MODIFIED:20260121T012446Z
UID:2582-1770921000-1770924600@darkhorseflinthill.com
SUMMARY:Trivia Night
DESCRIPTION:Grab your friends and give it your best shot!
URL:https://darkhorseflinthill.com/event-calendar/trivia-night-13/
LOCATION:The Dark Horse Irish Pub\, 659 Zachary Taylor Hwy\, Flint Hill\, VA\, 22627\, United States
CATEGORIES:Trivia
ATTACH;FMTTYPE=image/png:https://darkhorseflinthill.com/wp-content/uploads/2023/05/trivia.png
END:VEVENT
BEGIN:VEVENT
DTSTART;TZID=America/New_York:20260213T190000
DTEND;TZID=America/New_York:20260213T220000
DTSTAMP:20260419T125318
CREATED:20260121T013017Z
LAST-MODIFIED:20260121T013017Z
UID:2589-1771009200-1771020000@darkhorseflinthill.com
SUMMARY:Rob Hoey
DESCRIPTION:Loudoun County resident for 20+ years hailing from the Jersey Shore…with one voice and one acoustic guitar\, he delivers upbeat\, rhythmic covers of hits and deep cuts from the past 60+ years in rock\, pop\, country…a little bit of everything for everyone! Bring your requests and be ready to kick back and listen\, or lean in and sing along!
URL:https://darkhorseflinthill.com/event-calendar/rob-hoey/
LOCATION:The Dark Horse Irish Pub\, 659 Zachary Taylor Hwy\, Flint Hill\, VA\, 22627\, United States
CATEGORIES:Music
ATTACH;FMTTYPE=image/jpeg:https://darkhorseflinthill.com/wp-content/uploads/2026/01/Rob-Hoey.jpg
END:VEVENT
BEGIN:VEVENT
DTSTART;TZID=America/New_York:20260214T180000
DTEND;TZID=America/New_York:20260214T210000
DTSTAMP:20260419T125318
CREATED:20260121T013224Z
LAST-MODIFIED:20260121T013224Z
UID:2591-1771092000-1771102800@darkhorseflinthill.com
SUMMARY:Valentine's Day with One Street Over
DESCRIPTION:Performing Every Second Saturday!!! One Street Over is a 5-person Celtic roots band from Winchester\, Virginia. Known for their dynamic blend of traditional and original tunes and ballads\, their music weaves the rich sounds of vocals\, Irish flute\, fiddle\, cello\, bouzouki\, mandolin\, guitar\, mandocello\, and bodhrán.
URL:https://darkhorseflinthill.com/event-calendar/valentines-day-with-one-street-over/
LOCATION:The Dark Horse Irish Pub\, 659 Zachary Taylor Hwy\, Flint Hill\, VA\, 22627\, United States
CATEGORIES:Music
ATTACH;FMTTYPE=image/jpeg:https://darkhorseflinthill.com/wp-content/uploads/2026/01/One-Street-Over.jpg
END:VEVENT
BEGIN:VEVENT
DTSTART;TZID=America/New_York:20260219T183000
DTEND;TZID=America/New_York:20260219T193000
DTSTAMP:20260419T125318
CREATED:20260121T012541Z
LAST-MODIFIED:20260121T012541Z
UID:2584-1771525800-1771529400@darkhorseflinthill.com
SUMMARY:Trivia Night
DESCRIPTION:Grab your friends and give it your best shot!
URL:https://darkhorseflinthill.com/event-calendar/trivia-night-14/
LOCATION:The Dark Horse Irish Pub\, 659 Zachary Taylor Hwy\, Flint Hill\, VA\, 22627\, United States
ATTACH;FMTTYPE=image/png:https://darkhorseflinthill.com/wp-content/uploads/2023/05/trivia.png
END:VEVENT
BEGIN:VEVENT
DTSTART;TZID=America/New_York:20260220T190000
DTEND;TZID=America/New_York:20260220T220000
DTSTAMP:20260419T125318
CREATED:20260121T013351Z
LAST-MODIFIED:20260121T013351Z
UID:2594-1771614000-1771624800@darkhorseflinthill.com
SUMMARY:Brandon Kennedy
DESCRIPTION:Brandon Kennedy is an accomplished Celtic musician specializing in authentic Irish and Scottish traditional music. A master of Irish fiddle and acoustic guitar with vocals\, he creates rich\, layered performances using loop pedal technology that allows him to accompany himself seamlessly.
URL:https://darkhorseflinthill.com/event-calendar/brandon-kennedy-3/
LOCATION:The Dark Horse Irish Pub\, 659 Zachary Taylor Hwy\, Flint Hill\, VA\, 22627\, United States
CATEGORIES:Music
ATTACH;FMTTYPE=image/jpeg:https://darkhorseflinthill.com/wp-content/uploads/2025/12/Brandon-Kennedy-Pic.jpg
END:VEVENT
BEGIN:VEVENT
DTSTART;TZID=America/New_York:20260221T190000
DTEND;TZID=America/New_York:20260221T220000
DTSTAMP:20260419T125318
CREATED:20260121T013505Z
LAST-MODIFIED:20260121T013505Z
UID:2597-1771700400-1771711200@darkhorseflinthill.com
SUMMARY:Bailey Hayes
DESCRIPTION:Bailey is back! A 28-year-old solo acoustic artist from Culpeper\, VA\, he has been performing his whole life. Anywhere from country\, classic rock\, pop/soul\, to folk; original music\, and more\, his energy and soulful melodies will warm your heart and mind\, and maybe even get you on the dance floor!
URL:https://darkhorseflinthill.com/event-calendar/bailey-hayes-2/
LOCATION:The Dark Horse Irish Pub\, 659 Zachary Taylor Hwy\, Flint Hill\, VA\, 22627\, United States
CATEGORIES:Music
ATTACH;FMTTYPE=image/avif:https://darkhorseflinthill.com/wp-content/uploads/2026/01/Bailey-Pic.avif
END:VEVENT
BEGIN:VEVENT
DTSTART;TZID=America/New_York:20260226T183000
DTEND;TZID=America/New_York:20260226T193000
DTSTAMP:20260419T125318
CREATED:20260121T012700Z
LAST-MODIFIED:20260121T012700Z
UID:2586-1772130600-1772134200@darkhorseflinthill.com
SUMMARY:Trivia Night
DESCRIPTION:Grab your friends and give it your best shot!
URL:https://darkhorseflinthill.com/event-calendar/trivia-night-15/
LOCATION:The Dark Horse Irish Pub\, 659 Zachary Taylor Hwy\, Flint Hill\, VA\, 22627\, United States
CATEGORIES:Trivia
ATTACH;FMTTYPE=image/png:https://darkhorseflinthill.com/wp-content/uploads/2023/05/trivia.png
END:VEVENT
BEGIN:VEVENT
DTSTART;TZID=America/New_York:20260227T190000
DTEND;TZID=America/New_York:20260227T220000
DTSTAMP:20260419T125318
CREATED:20260121T013620Z
LAST-MODIFIED:20260121T013620Z
UID:2599-1772218800-1772229600@darkhorseflinthill.com
SUMMARY:Medicine Wind
DESCRIPTION:With an eclectic mix of classic rock\, folk\, country\, blues and Americana Roots\, Medicine Wind has been providing entertainment around the Eastern Region of the USA sine 1995. Medicine Wind believes their mission is to spread Good Medicine in the Wind through the incredible gift of music!
URL:https://darkhorseflinthill.com/event-calendar/medicine-wind-4/
LOCATION:The Dark Horse Irish Pub\, 659 Zachary Taylor Hwy\, Flint Hill\, VA\, 22627\, United States
CATEGORIES:Music
ATTACH;FMTTYPE=image/jpeg:https://darkhorseflinthill.com/wp-content/uploads/2026/01/Medidcine-Wind2.jpg
END:VEVENT
BEGIN:VEVENT
DTSTART;TZID=America/New_York:20260228T190000
DTEND;TZID=America/New_York:20260228T220000
DTSTAMP:20260419T125318
CREATED:20260121T013810Z
LAST-MODIFIED:20260121T013810Z
UID:2601-1772305200-1772316000@darkhorseflinthill.com
SUMMARY:Ryan Jewel
DESCRIPTION:When classic country and the new radio sound cross paths\, you’ll hear people say that ain’t real country music. Ryan Jewel is here to bring back that true country music sound. Ryan writes and sings the songs that the real country music fans can relate to. From country lovin’ to a cold beer\, even the classic country heartbreak ballad\, Ryan’s music is relatable to any country music listener. His rich\, baritone vocals\, paired with authentic songwriting\, which reflect his own life experiences\, have helped build a strong fan base who enjoys the “what you see is what you get” style of shows and demeanor.
URL:https://darkhorseflinthill.com/event-calendar/ryan-jewel-3/
LOCATION:The Dark Horse Irish Pub\, 659 Zachary Taylor Hwy\, Flint Hill\, VA\, 22627\, United States
CATEGORIES:Music
ATTACH;FMTTYPE=image/jpeg:https://darkhorseflinthill.com/wp-content/uploads/2026/01/Ryan-Jewel-Pic-scaled.jpg
END:VEVENT
END:VCALENDAR