BEGIN:VCALENDAR
VERSION:2.0
PRODID:-//DarkHorse - ECPv6.15.12.2//NONSGML v1.0//EN
CALSCALE:GREGORIAN
METHOD:PUBLISH
X-ORIGINAL-URL:https://darkhorseflinthill.com
X-WR-CALDESC:Events for DarkHorse
REFRESH-INTERVAL;VALUE=DURATION:PT1H
X-Robots-Tag:noindex
X-PUBLISHED-TTL:PT1H
BEGIN:VTIMEZONE
TZID:America/New_York
BEGIN:DAYLIGHT
TZOFFSETFROM:-0500
TZOFFSETTO:-0400
TZNAME:EDT
DTSTART:20230312T070000
END:DAYLIGHT
BEGIN:STANDARD
TZOFFSETFROM:-0400
TZOFFSETTO:-0500
TZNAME:EST
DTSTART:20231105T060000
END:STANDARD
BEGIN:DAYLIGHT
TZOFFSETFROM:-0500
TZOFFSETTO:-0400
TZNAME:EDT
DTSTART:20240310T070000
END:DAYLIGHT
BEGIN:STANDARD
TZOFFSETFROM:-0400
TZOFFSETTO:-0500
TZNAME:EST
DTSTART:20241103T060000
END:STANDARD
BEGIN:DAYLIGHT
TZOFFSETFROM:-0500
TZOFFSETTO:-0400
TZNAME:EDT
DTSTART:20250309T070000
END:DAYLIGHT
BEGIN:STANDARD
TZOFFSETFROM:-0400
TZOFFSETTO:-0500
TZNAME:EST
DTSTART:20251102T060000
END:STANDARD
BEGIN:DAYLIGHT
TZOFFSETFROM:-0500
TZOFFSETTO:-0400
TZNAME:EDT
DTSTART:20260308T070000
END:DAYLIGHT
BEGIN:STANDARD
TZOFFSETFROM:-0400
TZOFFSETTO:-0500
TZNAME:EST
DTSTART:20261101T060000
END:STANDARD
END:VTIMEZONE
BEGIN:VEVENT
DTSTART;TZID=America/New_York:20241231T203000
DTEND;TZID=America/New_York:20250101T003000
DTSTAMP:20260420T050248
CREATED:20241201T170710Z
LAST-MODIFIED:20241201T170710Z
UID:2351-1735677000-1735691400@darkhorseflinthill.com
SUMMARY:New Year's Eve Dinner and Party!
DESCRIPTION:It’s that time of year! Call 540-675-3227 \, dinner service starts at 4pm\n\nMake your reservations now for an extraordinary evening filled with Live Music with Five by Five band playing our favorite dance tunes 8:30-12:30am !\nIndulge in delicious dinner specials\, sip on expertly crafted cocktails\, beer and local wine. Raise a glass of champagne with friends as we count down the New Year together in style at The Dark Horse Irish Pub!
URL:https://darkhorseflinthill.com/event-calendar/new-years-eve-dinner-and-party/
LOCATION:VA
ATTACH;FMTTYPE=image/jpeg:https://darkhorseflinthill.com/wp-content/uploads/2024/12/2025-1.jpg
END:VEVENT
BEGIN:VEVENT
DTSTART;TZID=America/New_York:20250104T140000
DTEND;TZID=America/New_York:20250104T170000
DTSTAMP:20260420T050248
CREATED:20230413T235137Z
LAST-MODIFIED:20241231T180701Z
UID:1900-1735999200-1736010000@darkhorseflinthill.com
SUMMARY:Medicine Wind
DESCRIPTION:Medicine Wind is a duo with Kevin Ball and Lucille Jackson Ball. With an eclectic mix of classic rock\, folk\, country\, blues and Americana Roots\, they’ve been providing entertainment around the Eastern Region of the USA since 1995. Medicine Wind believes their mission is to spread Good Medicine in the Wind through the incredible gift of music!
URL:https://darkhorseflinthill.com/event-calendar/medicine-wind/
LOCATION:The Dark Horse Irish Pub\, 659 Zachary Taylor Hwy\, Flint Hill\, VA\, 22627\, United States
CATEGORIES:Music
ATTACH;FMTTYPE=image/jpeg:https://darkhorseflinthill.com/wp-content/uploads/2023/04/medicine-wind.jpg
END:VEVENT
BEGIN:VEVENT
DTSTART;TZID=America/New_York:20250105T200000
DTEND;TZID=America/New_York:20250105T200000
DTSTAMP:20260420T050248
CREATED:20250104T181911Z
LAST-MODIFIED:20250104T181911Z
UID:2360-1736107200-1736107200@darkhorseflinthill.com
SUMMARY:Closing at 8pm due to snow
DESCRIPTION:
URL:https://darkhorseflinthill.com/event-calendar/closing-at-8pm-due-to-snow/
LOCATION:VA
END:VEVENT
BEGIN:VEVENT
DTSTART;VALUE=DATE:20250106
DTEND;VALUE=DATE:20250107
DTSTAMP:20260420T050248
CREATED:20250104T182232Z
LAST-MODIFIED:20250104T182232Z
UID:2362-1736121600-1736207999@darkhorseflinthill.com
SUMMARY:Closed due to snow!
DESCRIPTION:
URL:https://darkhorseflinthill.com/event-calendar/closed-due-to-snow/
LOCATION:VA
ATTACH;FMTTYPE=image/png:https://darkhorseflinthill.com/wp-content/uploads/2025/01/Sunday-hours-1030-8pm-Monday-CLOSED.png
END:VEVENT
BEGIN:VEVENT
DTSTART;TZID=America/New_York:20250118T190000
DTEND;TZID=America/New_York:20250118T220000
DTSTAMP:20260420T050248
CREATED:20250105T211927Z
LAST-MODIFIED:20250105T211927Z
UID:2366-1737226800-1737237600@darkhorseflinthill.com
SUMMARY:The Tresle Walkers
DESCRIPTION:Presenting The Trestle Walkers\, featuring Randy Lilleston and Charles McCullough\, formerly of the late\, great Hypnotic Willie! Randy and Charles will dish out a mess of originals and covers\, from bawlers to brawlers\, mined from the bedrock of primal rock ‘n roll\, country\, blues\, folk\, and red dirt Americana.
URL:https://darkhorseflinthill.com/event-calendar/the-tresle-walkers/
LOCATION:VA
ATTACH;FMTTYPE=image/jpeg:https://darkhorseflinthill.com/wp-content/uploads/2025/01/charles.jpg
END:VEVENT
END:VCALENDAR