BEGIN:VCALENDAR
VERSION:2.0
PRODID:-//DarkHorse - ECPv6.15.12.2//NONSGML v1.0//EN
CALSCALE:GREGORIAN
METHOD:PUBLISH
X-WR-CALNAME:DarkHorse
X-ORIGINAL-URL:https://darkhorseflinthill.com
X-WR-CALDESC:Events for DarkHorse
REFRESH-INTERVAL;VALUE=DURATION:PT1H
X-Robots-Tag:noindex
X-PUBLISHED-TTL:PT1H
BEGIN:VTIMEZONE
TZID:America/New_York
BEGIN:DAYLIGHT
TZOFFSETFROM:-0500
TZOFFSETTO:-0400
TZNAME:EDT
DTSTART:20230312T070000
END:DAYLIGHT
BEGIN:STANDARD
TZOFFSETFROM:-0400
TZOFFSETTO:-0500
TZNAME:EST
DTSTART:20231105T060000
END:STANDARD
BEGIN:DAYLIGHT
TZOFFSETFROM:-0500
TZOFFSETTO:-0400
TZNAME:EDT
DTSTART:20240310T070000
END:DAYLIGHT
BEGIN:STANDARD
TZOFFSETFROM:-0400
TZOFFSETTO:-0500
TZNAME:EST
DTSTART:20241103T060000
END:STANDARD
BEGIN:DAYLIGHT
TZOFFSETFROM:-0500
TZOFFSETTO:-0400
TZNAME:EDT
DTSTART:20250309T070000
END:DAYLIGHT
BEGIN:STANDARD
TZOFFSETFROM:-0400
TZOFFSETTO:-0500
TZNAME:EST
DTSTART:20251102T060000
END:STANDARD
END:VTIMEZONE
BEGIN:VEVENT
DTSTART;TZID=America/New_York:20241123T190000
DTEND;TZID=America/New_York:20241123T220000
DTSTAMP:20260420T074854
CREATED:20241012T201354Z
LAST-MODIFIED:20241115T224422Z
UID:2315-1732388400-1732399200@darkhorseflinthill.com
SUMMARY:80's night with Vinyl Tracks
DESCRIPTION:We’re rewinding the clock to the raddest decade ever! Slip on your leggings\, tease that hair sky high and dig out your skinny jeans and shoulder pads. It’s time to dance the night away 80 style with Vinyl Tracks and one winner will receive a 25. gift card!
URL:https://darkhorseflinthill.com/event-calendar/80s-night-with-vinyl-tracks/
LOCATION:VA
ATTACH;FMTTYPE=image/jpeg:https://darkhorseflinthill.com/wp-content/uploads/2024/10/80s-night-design-template-a80ef72e4045dec4ec3c6acb9ff5a169_screen.jpg
END:VEVENT
BEGIN:VEVENT
DTSTART;VALUE=DATE:20241128
DTEND;VALUE=DATE:20241129
DTSTAMP:20260420T074854
CREATED:20241120T211831Z
LAST-MODIFIED:20241120T211831Z
UID:2343-1732752000-1732838399@darkhorseflinthill.com
SUMMARY:Closed Thanksgiving Day!
DESCRIPTION:Happy Thanksgiving !
URL:https://darkhorseflinthill.com/event-calendar/closed-thanksgiving-day/
LOCATION:VA
ATTACH;FMTTYPE=image/jpeg:https://darkhorseflinthill.com/wp-content/uploads/2023/11/Closed-Thanksgiving-Day-Signs-3.jpg
END:VEVENT
BEGIN:VEVENT
DTSTART;TZID=America/New_York:20241129T190000
DTEND;TZID=America/New_York:20241129T220000
DTSTAMP:20260420T074854
CREATED:20241017T172740Z
LAST-MODIFIED:20241115T224447Z
UID:2318-1732906800-1732917600@darkhorseflinthill.com
SUMMARY:Lilt
DESCRIPTION:They play the traditional dance music from Ireland: jigs and reels\, polkas and hornpipes\, the occasional slow air or vocal number. Lilt loves and tries to capture the essentials of Irish traditional music: boundless energy\, wildness and melancholy.
URL:https://darkhorseflinthill.com/event-calendar/lilt/
LOCATION:VA
ATTACH;FMTTYPE=image/webp:https://darkhorseflinthill.com/wp-content/uploads/2024/02/Lilt-Steps2.webp
END:VEVENT
BEGIN:VEVENT
DTSTART;TZID=America/New_York:20241130T190000
DTEND;TZID=America/New_York:20241130T220000
DTSTAMP:20260420T074854
CREATED:20241018T212215Z
LAST-MODIFIED:20241130T200603Z
UID:2320-1732993200-1733004000@darkhorseflinthill.com
SUMMARY:CANCELLED!!! Gingerfunk Allstars
DESCRIPTION:Sorry friends! The band cancelled on us!
URL:https://darkhorseflinthill.com/event-calendar/gingerfunk-allstars/
LOCATION:VA
END:VEVENT
END:VCALENDAR