BEGIN:VCALENDAR
VERSION:2.0
PRODID:-//DarkHorse - ECPv6.15.12.2//NONSGML v1.0//EN
CALSCALE:GREGORIAN
METHOD:PUBLISH
X-WR-CALNAME:DarkHorse
X-ORIGINAL-URL:https://darkhorseflinthill.com
X-WR-CALDESC:Events for DarkHorse
REFRESH-INTERVAL;VALUE=DURATION:PT1H
X-Robots-Tag:noindex
X-PUBLISHED-TTL:PT1H
BEGIN:VTIMEZONE
TZID:America/New_York
BEGIN:DAYLIGHT
TZOFFSETFROM:-0500
TZOFFSETTO:-0400
TZNAME:EDT
DTSTART:20230312T070000
END:DAYLIGHT
BEGIN:STANDARD
TZOFFSETFROM:-0400
TZOFFSETTO:-0500
TZNAME:EST
DTSTART:20231105T060000
END:STANDARD
BEGIN:DAYLIGHT
TZOFFSETFROM:-0500
TZOFFSETTO:-0400
TZNAME:EDT
DTSTART:20240310T070000
END:DAYLIGHT
BEGIN:STANDARD
TZOFFSETFROM:-0400
TZOFFSETTO:-0500
TZNAME:EST
DTSTART:20241103T060000
END:STANDARD
BEGIN:DAYLIGHT
TZOFFSETFROM:-0500
TZOFFSETTO:-0400
TZNAME:EDT
DTSTART:20250309T070000
END:DAYLIGHT
BEGIN:STANDARD
TZOFFSETFROM:-0400
TZOFFSETTO:-0500
TZNAME:EST
DTSTART:20251102T060000
END:STANDARD
END:VTIMEZONE
BEGIN:VEVENT
DTSTART;TZID=America/New_York:20240921T150000
DTEND;TZID=America/New_York:20240921T180000
DTSTAMP:20260420T103123
CREATED:20240812T173512Z
LAST-MODIFIED:20240812T173512Z
UID:2303-1726930800-1726941600@darkhorseflinthill.com
SUMMARY:Half Way to St. Patrick's Day Party! w/ ACROSS THE POND Irish Band!
DESCRIPTION:We can’t wait until March! We’re going to party on the half way to St. Patrick’s Day!Wear your green and get ready for a night of Irish entertainment with Across the Pond! This band is hard to book so don’t miss them!\nAcross the Pond is a multi-instrumental four-piece band performing their own high-energy arrangements of Irish\, Scottish and Appalachian tunes and songs. While very passionate about their traditional roots\, their arrangements contain modern influences. This high-energy band\, featuring Mike Morrison\, Dan Diviney\, Molly Shortridge and Charles Kadyk\, has been sharing their take of traditional and contemporary Irish folk music throughout the Mid-Atlantic region\, and into the Northeast\, Southeast\, and into Quebec and Ontario provinces in Canada for years. They’ve developed their own unique style many years ago and have never looked back.
URL:https://darkhorseflinthill.com/event-calendar/half-way-to-st-patricks-day-party-w-across-the-pond-irish-band/
LOCATION:VA
ATTACH;FMTTYPE=image/jpeg:https://darkhorseflinthill.com/wp-content/uploads/2024/08/across-scaled.jpg
END:VEVENT
END:VCALENDAR