BEGIN:VCALENDAR
VERSION:2.0
PRODID:-//DarkHorse - ECPv6.15.12.2//NONSGML v1.0//EN
CALSCALE:GREGORIAN
METHOD:PUBLISH
X-ORIGINAL-URL:https://darkhorseflinthill.com
X-WR-CALDESC:Events for DarkHorse
REFRESH-INTERVAL;VALUE=DURATION:PT1H
X-Robots-Tag:noindex
X-PUBLISHED-TTL:PT1H
BEGIN:VTIMEZONE
TZID:America/New_York
BEGIN:DAYLIGHT
TZOFFSETFROM:-0500
TZOFFSETTO:-0400
TZNAME:EDT
DTSTART:20230312T070000
END:DAYLIGHT
BEGIN:STANDARD
TZOFFSETFROM:-0400
TZOFFSETTO:-0500
TZNAME:EST
DTSTART:20231105T060000
END:STANDARD
BEGIN:DAYLIGHT
TZOFFSETFROM:-0500
TZOFFSETTO:-0400
TZNAME:EDT
DTSTART:20240310T070000
END:DAYLIGHT
BEGIN:STANDARD
TZOFFSETFROM:-0400
TZOFFSETTO:-0500
TZNAME:EST
DTSTART:20241103T060000
END:STANDARD
BEGIN:DAYLIGHT
TZOFFSETFROM:-0500
TZOFFSETTO:-0400
TZNAME:EDT
DTSTART:20250309T070000
END:DAYLIGHT
BEGIN:STANDARD
TZOFFSETFROM:-0400
TZOFFSETTO:-0500
TZNAME:EST
DTSTART:20251102T060000
END:STANDARD
END:VTIMEZONE
BEGIN:VEVENT
DTSTART;TZID=America/New_York:20240803T150000
DTEND;TZID=America/New_York:20240803T180000
DTSTAMP:20260420T122244
CREATED:20230815T220026Z
LAST-MODIFIED:20240620T173855Z
UID:2044-1722697200-1722708000@darkhorseflinthill.com
SUMMARY:Bryan Elijah Smith
DESCRIPTION:Bryan Elijah Smith is an international award winning singer-songwriter based out of the Shenandoah Valley in Virginia. Having opened for artists such as Jim Lauderdale\, Ryan Montbleau\, Sierra Ferrell\, Joe Pug\, Old Crow Medicine Show and Trampled By Tramples\, Smith’s unique and haunting vocals will leave you with a sense of timeless nostalgia.You don’t want to miss this! \nhttps://www.bryanelijahsmith.com/
URL:https://darkhorseflinthill.com/event-calendar/bryan-elijah-smith/
LOCATION:VA
ATTACH;FMTTYPE=image/jpeg:https://darkhorseflinthill.com/wp-content/uploads/2023/08/bryan.jpg
END:VEVENT
BEGIN:VEVENT
DTSTART;TZID=America/New_York:20240824T150000
DTEND;TZID=America/New_York:20240824T180000
DTSTAMP:20260420T122244
CREATED:20230621T163736Z
LAST-MODIFIED:20240629T184906Z
UID:2000-1724511600-1724522400@darkhorseflinthill.com
SUMMARY:Mark Clay
DESCRIPTION:Our friend Mark is back to perform for us. Join us for some live music with friends!
URL:https://darkhorseflinthill.com/event-calendar/mark-clay/
LOCATION:VA
CATEGORIES:Music
ATTACH;FMTTYPE=image/jpeg:https://darkhorseflinthill.com/wp-content/uploads/2023/04/mark2.jpg
END:VEVENT
BEGIN:VEVENT
DTSTART;TZID=America/New_York:20240830T150000
DTEND;TZID=America/New_York:20240830T180000
DTSTAMP:20260420T122244
CREATED:20240714T175907Z
LAST-MODIFIED:20240714T175907Z
UID:2297-1725030000-1725040800@darkhorseflinthill.com
SUMMARY:The Side Men!
DESCRIPTION:These 6 seasoned musicians put on a Hellava show! Wear your dancing shoes!
URL:https://darkhorseflinthill.com/event-calendar/the-side-men/
LOCATION:VA
ATTACH;FMTTYPE=image/jpeg:https://darkhorseflinthill.com/wp-content/uploads/2024/07/side-men.jpg
END:VEVENT
END:VCALENDAR