BEGIN:VCALENDAR
VERSION:2.0
PRODID:-//DarkHorse - ECPv6.15.12.2//NONSGML v1.0//EN
CALSCALE:GREGORIAN
METHOD:PUBLISH
X-WR-CALNAME:DarkHorse
X-ORIGINAL-URL:https://darkhorseflinthill.com
X-WR-CALDESC:Events for DarkHorse
REFRESH-INTERVAL;VALUE=DURATION:PT1H
X-Robots-Tag:noindex
X-PUBLISHED-TTL:PT1H
BEGIN:VTIMEZONE
TZID:America/New_York
BEGIN:DAYLIGHT
TZOFFSETFROM:-0500
TZOFFSETTO:-0400
TZNAME:EDT
DTSTART:20230312T070000
END:DAYLIGHT
BEGIN:STANDARD
TZOFFSETFROM:-0400
TZOFFSETTO:-0500
TZNAME:EST
DTSTART:20231105T060000
END:STANDARD
BEGIN:DAYLIGHT
TZOFFSETFROM:-0500
TZOFFSETTO:-0400
TZNAME:EDT
DTSTART:20240310T070000
END:DAYLIGHT
BEGIN:STANDARD
TZOFFSETFROM:-0400
TZOFFSETTO:-0500
TZNAME:EST
DTSTART:20241103T060000
END:STANDARD
BEGIN:DAYLIGHT
TZOFFSETFROM:-0500
TZOFFSETTO:-0400
TZNAME:EDT
DTSTART:20250309T070000
END:DAYLIGHT
BEGIN:STANDARD
TZOFFSETFROM:-0400
TZOFFSETTO:-0500
TZNAME:EST
DTSTART:20251102T060000
END:STANDARD
END:VTIMEZONE
BEGIN:VEVENT
DTSTART;TZID=America/New_York:20240503T140000
DTEND;TZID=America/New_York:20240503T170000
DTSTAMP:20260420T171117
CREATED:20230923T180215Z
LAST-MODIFIED:20240331T195840Z
UID:2075-1714744800-1714755600@darkhorseflinthill.com
SUMMARY:Marc Allred
DESCRIPTION:Marc has a passion for seamless melodies\, energetic riffs and uplifting song structures\, echoing a variety of genres\, ranging from reggae and rock\, to punk\, folk and even pop. His music is inspired by the work of seminal performers the likes of Tom Petty\, Bob Marley\, NOFX and The Police\, to mention a few
URL:https://darkhorseflinthill.com/event-calendar/marc-allred/
LOCATION:The Dark Horse Irish Pub\, 659 Zachary Taylor Hwy\, Flint Hill\, VA\, 22627\, United States
CATEGORIES:Music
ATTACH;FMTTYPE=image/jpeg:https://darkhorseflinthill.com/wp-content/uploads/2023/09/markalred.jpg
END:VEVENT
BEGIN:VEVENT
DTSTART;TZID=America/New_York:20240513T100000
DTEND;TZID=America/New_York:20240513T160000
DTSTAMP:20260420T171117
CREATED:20240509T021500Z
LAST-MODIFIED:20240509T021500Z
UID:2269-1715594400-1715616000@darkhorseflinthill.com
SUMMARY:Open 11-2 only. Closing early!
DESCRIPTION:Closing at 2pm for building maintenance. No dinner service
URL:https://darkhorseflinthill.com/event-calendar/open-11-2-only-closing-early/
LOCATION:VA
ATTACH;FMTTYPE=image/jpeg:https://darkhorseflinthill.com/wp-content/uploads/2024/05/closing-early.jpg
END:VEVENT
BEGIN:VEVENT
DTSTART;TZID=America/New_York:20240518T140000
DTEND;TZID=America/New_York:20240518T170000
DTSTAMP:20260420T171117
CREATED:20230414T170813Z
LAST-MODIFIED:20240401T170056Z
UID:1919-1716040800-1716051600@darkhorseflinthill.com
SUMMARY:Acoustic Soul
DESCRIPTION:This trio has spent decades performing professionally at wineries\, pubs and breweries playing classic rock\, soul\, jazz\, blues\, country and gospel. Playing music and friends is living the dream. You’re sure to know and love their music!
URL:https://darkhorseflinthill.com/event-calendar/acoustic-soul/
LOCATION:VA
ATTACH;FMTTYPE=image/jpeg:https://darkhorseflinthill.com/wp-content/uploads/2023/04/acoustic-soul-22.jpg
END:VEVENT
BEGIN:VEVENT
DTSTART;TZID=America/New_York:20240525T150000
DTEND;TZID=America/New_York:20240525T180000
DTSTAMP:20260420T171117
CREATED:20240401T165006Z
LAST-MODIFIED:20240427T193841Z
UID:2202-1716649200-1716660000@darkhorseflinthill.com
SUMMARY:Vinyl Tracks!
DESCRIPTION:A four piece local band playing our favorite rock n roll classic from the 70s and 80s and beyond!
URL:https://darkhorseflinthill.com/event-calendar/vinyl-tracks/
LOCATION:VA
ATTACH;FMTTYPE=image/jpeg:https://darkhorseflinthill.com/wp-content/uploads/2024/04/vinyl.jpg
END:VEVENT
BEGIN:VEVENT
DTSTART;TZID=America/New_York:20240530T120000
DTEND;TZID=America/New_York:20240530T140000
DTSTAMP:20260420T171117
CREATED:20240530T165110Z
LAST-MODIFIED:20240530T165141Z
UID:2282-1717070400-1717077600@darkhorseflinthill.com
SUMMARY:Hangout with Ben Giles
DESCRIPTION:Music on the deck this afternoon ! Then stay for Trivia at 6:30pm!
URL:https://darkhorseflinthill.com/event-calendar/hangout-with-ben-giles/
LOCATION:VA
ATTACH;FMTTYPE=image/jpeg:https://darkhorseflinthill.com/wp-content/uploads/2024/05/bengiles.jpg
END:VEVENT
END:VCALENDAR