BEGIN:VCALENDAR
VERSION:2.0
PRODID:-//DarkHorse - ECPv6.15.12.2//NONSGML v1.0//EN
CALSCALE:GREGORIAN
METHOD:PUBLISH
X-WR-CALNAME:DarkHorse
X-ORIGINAL-URL:https://darkhorseflinthill.com
X-WR-CALDESC:Events for DarkHorse
REFRESH-INTERVAL;VALUE=DURATION:PT1H
X-Robots-Tag:noindex
X-PUBLISHED-TTL:PT1H
BEGIN:VTIMEZONE
TZID:America/New_York
BEGIN:DAYLIGHT
TZOFFSETFROM:-0500
TZOFFSETTO:-0400
TZNAME:EDT
DTSTART:20220313T070000
END:DAYLIGHT
BEGIN:STANDARD
TZOFFSETFROM:-0400
TZOFFSETTO:-0500
TZNAME:EST
DTSTART:20221106T060000
END:STANDARD
BEGIN:DAYLIGHT
TZOFFSETFROM:-0500
TZOFFSETTO:-0400
TZNAME:EDT
DTSTART:20230312T070000
END:DAYLIGHT
BEGIN:STANDARD
TZOFFSETFROM:-0400
TZOFFSETTO:-0500
TZNAME:EST
DTSTART:20231105T060000
END:STANDARD
BEGIN:DAYLIGHT
TZOFFSETFROM:-0500
TZOFFSETTO:-0400
TZNAME:EDT
DTSTART:20240310T070000
END:DAYLIGHT
BEGIN:STANDARD
TZOFFSETFROM:-0400
TZOFFSETTO:-0500
TZNAME:EST
DTSTART:20241103T060000
END:STANDARD
END:VTIMEZONE
BEGIN:VEVENT
DTSTART;TZID=America/New_York:20230519T140000
DTEND;TZID=America/New_York:20230519T170000
DTSTAMP:20260420T094817
CREATED:20230414T164229Z
LAST-MODIFIED:20230414T164229Z
UID:1909-1684504800-1684515600@darkhorseflinthill.com
SUMMARY:Music with Brook Yoder
DESCRIPTION:A Washington DC native\, Brook Yoder is a singer/guitarist with a crowd pleasing repertoire of hundreds of songs that you’ve all heard. He has been playing venues on the east coast since the 1970s and specializes in songs that bring you back to the places and times that you remember most fondly. Classic Rock\, Pop\, Folk\, Irish pub songs and ballads\,
URL:https://darkhorseflinthill.com/event-calendar/music-with-brook-yoder/
ATTACH;FMTTYPE=image/jpeg:https://darkhorseflinthill.com/wp-content/uploads/2023/04/brookyoder.jpg
END:VEVENT
BEGIN:VEVENT
DTSTART;TZID=America/New_York:20230518T143000
DTEND;TZID=America/New_York:20230518T153000
DTSTAMP:20260420T094817
CREATED:20230503T192041Z
LAST-MODIFIED:20230503T192041Z
UID:1964-1684420200-1684423800@darkhorseflinthill.com
SUMMARY:Trivia Night!
DESCRIPTION:Every Thursday evening we get together for a fun and friendly competition testing your knowledge in categories like geography\, sports\, presidents\, historical events\, nature and much more. Teams may consist of no more than 5 members and the winning team receives a $10. gift card per member and the honor to sit at The Winners Table! (no cell phones or lifelines please)
URL:https://darkhorseflinthill.com/event-calendar/trivia-night-4/
CATEGORIES:Trivia
ATTACH;FMTTYPE=image/png:https://darkhorseflinthill.com/wp-content/uploads/2023/05/trivia.png
END:VEVENT
BEGIN:VEVENT
DTSTART;TZID=America/New_York:20230511T143000
DTEND;TZID=America/New_York:20230511T153000
DTSTAMP:20260420T094817
CREATED:20230503T191910Z
LAST-MODIFIED:20230503T191910Z
UID:1961-1683815400-1683819000@darkhorseflinthill.com
SUMMARY:Trivia Night!
DESCRIPTION:Every Thursday evening we get together for a fun and friendly competition testing your knowledge in categories like geography\, sports\, presidents\, historical events\, nature and much more. Teams may consist of no more than 5 members and the winning team receives a $10. gift card per member and the honor to sit at The Winners Table! (no cell phones or lifelines please)
URL:https://darkhorseflinthill.com/event-calendar/trivia-night-3/
CATEGORIES:Trivia
ATTACH;FMTTYPE=image/png:https://darkhorseflinthill.com/wp-content/uploads/2023/05/trivia.png
END:VEVENT
BEGIN:VEVENT
DTSTART;TZID=America/New_York:20230504T143000
DTEND;TZID=America/New_York:20230504T153000
DTSTAMP:20260420T094817
CREATED:20230504T221922Z
LAST-MODIFIED:20230503T190802Z
UID:1949-1683210600-1683214200@darkhorseflinthill.com
SUMMARY:Trivia Night!
DESCRIPTION:Every Thursday teams gather in the pub for beer\, dinner and a fun\, friendly competition testing their knowledge of  history\, sports\, the famous\, geography  and much more. Teams consist of no more than 5 members and the winning team is awarded a $10. gift card per person and gets to sit at The Winner’s Table of Honor. We have a great host and our teams make if quite hilarious! (no cellphones or life-lines permitted) .
URL:https://darkhorseflinthill.com/event-calendar/trivia-night/
CATEGORIES:Trivia
ATTACH;FMTTYPE=image/jpeg:https://darkhorseflinthill.com/wp-content/uploads/2023/04/BeerTrivia_event-300x300-1.jpg
END:VEVENT
BEGIN:VEVENT
DTSTART;TZID=America/New_York:20230504T143000
DTEND;TZID=America/New_York:20230504T153000
DTSTAMP:20260420T094817
CREATED:20230503T191504Z
LAST-MODIFIED:20230503T191504Z
UID:1959-1683210600-1683214200@darkhorseflinthill.com
SUMMARY:Trivia Night!
DESCRIPTION:Every Thursday evening we get together for a fun and friendly competition testing your knowledge in categories like geography\, sports\, presidents\, historical events\, nature and much more. Teams may consist of no more than 5 members and the winning team receives a $10. gift card per member and the honor to sit at The Winners Table! (no cell phones or lifelines please)
URL:https://darkhorseflinthill.com/event-calendar/trivia-night-2/
CATEGORIES:Trivia
ATTACH;FMTTYPE=image/jpeg:https://darkhorseflinthill.com/wp-content/uploads/2023/04/BeerTrivia_event-300x300-1.jpg
END:VEVENT
END:VCALENDAR