BEGIN:VCALENDAR
VERSION:2.0
PRODID:-//DarkHorse - ECPv6.15.12.2//NONSGML v1.0//EN
CALSCALE:GREGORIAN
METHOD:PUBLISH
X-WR-CALNAME:DarkHorse
X-ORIGINAL-URL:https://darkhorseflinthill.com
X-WR-CALDESC:Events for DarkHorse
REFRESH-INTERVAL;VALUE=DURATION:PT1H
X-Robots-Tag:noindex
X-PUBLISHED-TTL:PT1H
BEGIN:VTIMEZONE
TZID:America/New_York
BEGIN:DAYLIGHT
TZOFFSETFROM:-0500
TZOFFSETTO:-0400
TZNAME:EDT
DTSTART:20230312T070000
END:DAYLIGHT
BEGIN:STANDARD
TZOFFSETFROM:-0400
TZOFFSETTO:-0500
TZNAME:EST
DTSTART:20231105T060000
END:STANDARD
BEGIN:DAYLIGHT
TZOFFSETFROM:-0500
TZOFFSETTO:-0400
TZNAME:EDT
DTSTART:20240310T070000
END:DAYLIGHT
BEGIN:STANDARD
TZOFFSETFROM:-0400
TZOFFSETTO:-0500
TZNAME:EST
DTSTART:20241103T060000
END:STANDARD
BEGIN:DAYLIGHT
TZOFFSETFROM:-0500
TZOFFSETTO:-0400
TZNAME:EDT
DTSTART:20250309T070000
END:DAYLIGHT
BEGIN:STANDARD
TZOFFSETFROM:-0400
TZOFFSETTO:-0500
TZNAME:EST
DTSTART:20251102T060000
END:STANDARD
BEGIN:DAYLIGHT
TZOFFSETFROM:-0500
TZOFFSETTO:-0400
TZNAME:EDT
DTSTART:20260308T070000
END:DAYLIGHT
BEGIN:STANDARD
TZOFFSETFROM:-0400
TZOFFSETTO:-0500
TZNAME:EST
DTSTART:20261101T060000
END:STANDARD
END:VTIMEZONE
BEGIN:VEVENT
DTSTART;TZID=America/New_York:20251101T190000
DTEND;TZID=America/New_York:20251101T220000
DTSTAMP:20260420T015926
CREATED:20250811T161125Z
LAST-MODIFIED:20251012T163504Z
UID:2469-1762023600-1762034400@darkhorseflinthill.com
SUMMARY:Christopher Rall
DESCRIPTION:Solo acoustic artist from Virginia with powerful vocals playing our favorite classic tunes.
URL:https://darkhorseflinthill.com/event-calendar/christopher-rall/
LOCATION:VA
ATTACH;FMTTYPE=image/jpeg:https://darkhorseflinthill.com/wp-content/uploads/2025/08/IMG_4880-1.jpeg
END:VEVENT
BEGIN:VEVENT
DTSTART;TZID=America/New_York:20251031T190000
DTEND;TZID=America/New_York:20251031T220000
DTSTAMP:20260420T015926
CREATED:20251012T163355Z
LAST-MODIFIED:20251012T163355Z
UID:2492-1761937200-1761948000@darkhorseflinthill.com
SUMMARY:Halloween Costume Bash with Robbie Limon Band!
DESCRIPTION:For 2 decades we’ve been celebrating Halloween with frightful fun and this year we are turning it up with The Robbie Limon Band!Prizes for best costumes~ first \, second and third and horrible mention! 9pm judging!Scary good food and drinks~Dancing 7-10pm~Dress to impress or terrify and join us for a night of ghosts\, ghouls and great music!
URL:https://darkhorseflinthill.com/event-calendar/halloween-costume-bash-with-robbie-limon-band/
LOCATION:VA
ATTACH;FMTTYPE=image/jpeg:https://darkhorseflinthill.com/wp-content/uploads/2025/10/HALLOWEEN-1.jpg
END:VEVENT
BEGIN:VEVENT
DTSTART;TZID=America/New_York:20251025T190000
DTEND;TZID=America/New_York:20251025T220000
DTSTAMP:20260420T015926
CREATED:20250922T140145Z
LAST-MODIFIED:20250922T140145Z
UID:2488-1761418800-1761429600@darkhorseflinthill.com
SUMMARY:Grass fed
DESCRIPTION:Grass Fed blends Rock ‘n’ Roll\, Reggae\, and Groove into a unique sound inspired by The Beatles and Bob Marley. With infectious melodies and powerful rhythms\, the band creates a feel-good vibe that keeps listeners rocking and swaying all night long.
URL:https://darkhorseflinthill.com/event-calendar/grass-fed/
LOCATION:VA
ATTACH;FMTTYPE=image/jpeg:https://darkhorseflinthill.com/wp-content/uploads/2025/09/grassfed.jpg
END:VEVENT
BEGIN:VEVENT
DTSTART;TZID=America/New_York:20251017T190000
DTEND;TZID=America/New_York:20251017T220000
DTSTAMP:20260420T015926
CREATED:20231215T200358Z
LAST-MODIFIED:20250916T134935Z
UID:2136-1760727600-1760738400@darkhorseflinthill.com
SUMMARY:Donnaka ! Music from both side of the Pond
DESCRIPTION:Irish pub music \, pop rock Country and originals to go along with all the popular Irish classics. He’s become a staff and regular fav!
URL:https://darkhorseflinthill.com/event-calendar/irish-tunes-with-donnaka/
LOCATION:VA
ATTACH;FMTTYPE=image/jpeg:https://darkhorseflinthill.com/wp-content/uploads/2023/12/donnaka.jpg
END:VEVENT
BEGIN:VEVENT
DTSTART;TZID=America/New_York:20251010T190000
DTEND;TZID=America/New_York:20251010T220000
DTSTAMP:20260420T015926
CREATED:20250709T124928Z
LAST-MODIFIED:20250916T134722Z
UID:2451-1760122800-1760133600@darkhorseflinthill.com
SUMMARY:Woody!
DESCRIPTION:Woody\, is a country/folk singer and native Floridian\, now living in Sperryville. Growing up listening to classic oldies on the radio\, he picked up and started to learn to play the banjo. He plays 70s outlaw country and 60s Folk Revival hits at open mics in the local bars.\nHe started to write songs about 2 years ago after being inspired by personal heroes\, such as Kris Kristofferson\, Gordon Lightfoot\, Guy Clark\, and others. Weaving poetic lines into stories or messages with morals\, He shares the insights of his mind and heart with the few songs that he’s written so far.
URL:https://darkhorseflinthill.com/event-calendar/woodys-debut/
LOCATION:VA
ATTACH;FMTTYPE=image/jpeg:https://darkhorseflinthill.com/wp-content/uploads/2025/07/woody5.jpg
END:VEVENT
BEGIN:VEVENT
DTSTART;TZID=America/New_York:20251004T190000
DTEND;TZID=America/New_York:20251004T220000
DTSTAMP:20260420T015926
CREATED:20240331T195211Z
LAST-MODIFIED:20250918T161354Z
UID:2198-1759604400-1759615200@darkhorseflinthill.com
SUMMARY:Bourbon Moon
DESCRIPTION:Bourbon Moon plays acoustic style\, “in-your-face but not too loud” versions of tunes ranging from old rock & blues/Americana to bluegrass and Irish fiddle music. Strong vocal harmonies and tasteful solos round out the sound and keep the high energy level rolling.
URL:https://darkhorseflinthill.com/event-calendar/bourbon-moon/
LOCATION:VA
CATEGORIES:Music
ATTACH;FMTTYPE=image/jpeg:https://darkhorseflinthill.com/wp-content/uploads/2024/03/bourbon-moon.jpg
END:VEVENT
BEGIN:VEVENT
DTSTART;TZID=America/New_York:20250927T190000
DTEND;TZID=America/New_York:20250927T220000
DTSTAMP:20260420T015926
CREATED:20230414T170155Z
LAST-MODIFIED:20250916T144252Z
UID:1915-1758999600-1759010400@darkhorseflinthill.com
SUMMARY:Five by Five Band
DESCRIPTION:Vicki and her band\, Five by Five provide live music that specializes in recognizable\, fun\, dance easy listening music from the 40’s through today. Vicki has a powerful voice and you’re sure to get up and dance!
URL:https://darkhorseflinthill.com/event-calendar/five-by-five-band-returns/
LOCATION:VA
CATEGORIES:Music
ATTACH;FMTTYPE=image/jpeg:https://darkhorseflinthill.com/wp-content/uploads/2023/04/5x5.jpg
END:VEVENT
BEGIN:VEVENT
DTSTART;TZID=America/New_York:20250919T190000
DTEND;TZID=America/New_York:20250919T220000
DTSTAMP:20260420T015926
CREATED:20240528T164352Z
LAST-MODIFIED:20250918T161034Z
UID:2279-1758308400-1758319200@darkhorseflinthill.com
SUMMARY:Bobby G & The Heavies
DESCRIPTION:Bobby G and the Heavies is the area’s best authentic Rhythm and Blues band!
URL:https://darkhorseflinthill.com/event-calendar/bobby-g-the-heavies/
LOCATION:VA
CATEGORIES:Music
ATTACH;FMTTYPE=image/jpeg:https://darkhorseflinthill.com/wp-content/uploads/2024/05/bobby-G.jpg
END:VEVENT
BEGIN:VEVENT
DTSTART;TZID=America/New_York:20250906T190000
DTEND;TZID=America/New_York:20250906T220000
DTSTAMP:20260420T015926
CREATED:20250719T153757Z
LAST-MODIFIED:20250719T153757Z
UID:2465-1757185200-1757196000@darkhorseflinthill.com
SUMMARY:Hammaville!
DESCRIPTION:Hammaville is a vibrant bluegrass band based in Virginia\, bringing the sounds of traditional Appalachian music into the modern era. With a lineup featuring banjo\, mandolin\, guitar\, and bass\, the band crafts rich harmonies and locked-in rhythm that capture the heart of this musical style. Known for their energetic live shows and tight-knit musicianship\, Hammaville blends classic bluegrass with their own unique flair\, creating an experience that resonates with both long-time fans and new listeners alike. Catch them live and experience the sound of Virginia’s bluegrass roots!
URL:https://darkhorseflinthill.com/event-calendar/hammaville/
LOCATION:VA
ATTACH;FMTTYPE=image/jpeg:https://darkhorseflinthill.com/wp-content/uploads/2025/07/hamma.jpg
END:VEVENT
BEGIN:VEVENT
DTSTART;TZID=America/New_York:20250901T110000
DTEND;TZID=America/New_York:20250901T220000
DTSTAMP:20260420T015926
CREATED:20250901T131859Z
LAST-MODIFIED:20250901T131859Z
UID:2480-1756724400-1756764000@darkhorseflinthill.com
SUMMARY:We are Open for Labor Day
DESCRIPTION:
URL:https://darkhorseflinthill.com/event-calendar/we-are-open-for-labor-day/
LOCATION:VA
ATTACH;FMTTYPE=image/jpeg:https://darkhorseflinthill.com/wp-content/uploads/2025/09/11.00-AM-10.00-PM.jpg
END:VEVENT
BEGIN:VEVENT
DTSTART;TZID=America/New_York:20250830T190000
DTEND;TZID=America/New_York:20250830T220000
DTSTAMP:20260420T015926
CREATED:20250127T152826Z
LAST-MODIFIED:20250714T134538Z
UID:2384-1756580400-1756591200@darkhorseflinthill.com
SUMMARY:Robbie Limon Band!!
DESCRIPTION:Mark your calendars!It’s going to be an epic blast from the past with the Robbie Limon band! Step into the pub for our golden era of full band and a full pub of dancing to our favorite classic rock tunes delivered by the one and only Robbie Limon band!
URL:https://darkhorseflinthill.com/event-calendar/robbie-limon-band/
LOCATION:VA
ATTACH;FMTTYPE=image/jpeg:https://darkhorseflinthill.com/wp-content/uploads/2025/01/The-Robbie-Limon-Band.jpg
END:VEVENT
BEGIN:VEVENT
DTSTART;TZID=America/New_York:20250816T190000
DTEND;TZID=America/New_York:20250816T220000
DTSTAMP:20260420T015926
CREATED:20250329T140619Z
LAST-MODIFIED:20250714T133816Z
UID:2404-1755370800-1755381600@darkhorseflinthill.com
SUMMARY:Trestle Walkers
DESCRIPTION:Presenting The Trestle Walkers\, featuring Randy Lilleston and Charles McCullough\, formerly of the late\, great Hypnotic Willie! Randy and Charles will dish out a mess of originals and covers\, from bawlers to brawlers\, mined from the bedrock of primal rock ‘n roll\, country\, blues\, folk\, and red dirt Americana.
URL:https://darkhorseflinthill.com/event-calendar/trestle-walkers/
LOCATION:VA
ATTACH;FMTTYPE=image/jpeg:https://darkhorseflinthill.com/wp-content/uploads/2025/03/tresle.jpg
END:VEVENT
BEGIN:VEVENT
DTSTART;TZID=America/New_York:20250808T190000
DTEND;TZID=America/New_York:20250808T220000
DTSTAMP:20260420T015926
CREATED:20250111T144854Z
LAST-MODIFIED:20250714T133530Z
UID:2372-1754679600-1754690400@darkhorseflinthill.com
SUMMARY:The Lonesome Millies
DESCRIPTION:The Debut of A Rappahannock County trio playing folk\, country and Americana songs with Maureen Day\, Wayne Turner and Pete Bresnan
URL:https://darkhorseflinthill.com/event-calendar/the-lonesome-millies/
LOCATION:VA
ATTACH;FMTTYPE=image/jpeg:https://darkhorseflinthill.com/wp-content/uploads/2025/01/lonesome4.jpg
END:VEVENT
BEGIN:VEVENT
DTSTART;TZID=America/New_York:20250726T190000
DTEND;TZID=America/New_York:20250726T220000
DTSTAMP:20260420T015926
CREATED:20241031T204723Z
LAST-MODIFIED:20250513T132047Z
UID:2323-1753556400-1753567200@darkhorseflinthill.com
SUMMARY:Chris Timbers Trio
DESCRIPTION:Chris calls his unique combination of country\, contemporary jazz\, blues\, and rock: “alternative soul”. Listeners hear hints of Stevie Ray Vaughn through the rhythm of blues\, the lyrics of soul\, the melodies of country\, and some good old-fashioned rock ‘n roll
URL:https://darkhorseflinthill.com/event-calendar/chris-timbers-trio/
LOCATION:VA
ATTACH;FMTTYPE=image/webp:https://darkhorseflinthill.com/wp-content/uploads/2024/10/chris-timbers.webp
END:VEVENT
BEGIN:VEVENT
DTSTART;TZID=America/New_York:20250718T190000
DTEND;TZID=America/New_York:20250718T220000
DTSTAMP:20260420T015926
CREATED:20250620T145455Z
LAST-MODIFIED:20250620T145455Z
UID:2440-1752865200-1752876000@darkhorseflinthill.com
SUMMARY:Dylan Page Music
DESCRIPTION:Dylan Page Music: With Dylan Page on guitar and vocals\, Kevin Breeden on bass guitar\, guitar and harmonica and Michael Page sometimes on cajon\, Dylan Page Music has been entertaining patrons and guests at breweries\, pubs and private parties in Fauquier and surrounding counties with their large\, eclectic repertoire of songs\, with a focus on Americana\, since 202
URL:https://darkhorseflinthill.com/event-calendar/dylan-page-music/
LOCATION:VA
ATTACH;FMTTYPE=image/jpeg:https://darkhorseflinthill.com/wp-content/uploads/2025/06/dylanpage.jpg
END:VEVENT
BEGIN:VEVENT
DTSTART;TZID=America/New_York:20250628T190000
DTEND;TZID=America/New_York:20250628T220000
DTSTAMP:20260420T015926
CREATED:20250513T131738Z
LAST-MODIFIED:20250513T131738Z
UID:2432-1751137200-1751148000@darkhorseflinthill.com
SUMMARY:Leon Rector Band
DESCRIPTION:Leon Rector is an American Singer-Songwriter and recording artist most known for his viral rendition of the classic country murder ballad “Psycho” written by “The Blind Balladeer” Leon Payne who wrote country classics like “Lost Highway” made popular by country music legend Hank Williams.\nThe Leon Rector Band is an Americana fusion of country\, folk\, and rock with a touch of blues. With 18 million views on TikTok\, you don’t want to miss this viral sensation as they play The Dark Horse for one night only!
URL:https://darkhorseflinthill.com/event-calendar/leon-rector-band/
LOCATION:VA
ATTACH;FMTTYPE=image/jpeg:https://darkhorseflinthill.com/wp-content/uploads/2025/05/Leonband.jpg
END:VEVENT
BEGIN:VEVENT
DTSTART;TZID=America/New_York:20250606T160000
DTEND;TZID=America/New_York:20250607T220000
DTSTAMP:20260420T015926
CREATED:20250421T151205Z
LAST-MODIFIED:20250605T130915Z
UID:2417-1749225600-1749333600@darkhorseflinthill.com
SUMMARY:Banding Together Celebration of Life for Mark Clay! June 6 and 7
DESCRIPTION:A full weekend of live music on the patio starting 4pm until 10pm Friday and Saturday night! \nDonations appreciated for raffles! Cash or Venmo 1 for 5 or 5 for 20! \nBand line up \nFriday \n4-6pm Medicine Wind \n7-10pm Side Men \nSaturday \n4-5 Family Vaughan \n5-6 – Christopher Rall \n5:30-6:30 Opposite Shores \n8-10pm Coal Canyon Bluegrass from Nashville! \n 
URL:https://darkhorseflinthill.com/event-calendar/banding-together-benefit-for-mark-clay/
LOCATION:VA
ATTACH;FMTTYPE=image/jpeg:https://darkhorseflinthill.com/wp-content/uploads/2025/04/saved-as-new.jpg
END:VEVENT
BEGIN:VEVENT
DTSTART;TZID=America/New_York:20250516T190000
DTEND;TZID=America/New_York:20250516T220000
DTSTAMP:20260420T015926
CREATED:20250424T134153Z
LAST-MODIFIED:20250510T143322Z
UID:2423-1747422000-1747432800@darkhorseflinthill.com
SUMMARY:Rich Felhle
DESCRIPTION:Rich Fehle will be playing solo filling in for our dear friend Mark Clay.
URL:https://darkhorseflinthill.com/event-calendar/knob-creek-returns/
LOCATION:VA
ATTACH;FMTTYPE=image/jpeg:https://darkhorseflinthill.com/wp-content/uploads/2025/04/Knob-Creek.jpg
END:VEVENT
BEGIN:VEVENT
DTSTART;TZID=America/New_York:20250511T103000
DTEND;TZID=America/New_York:20250511T220000
DTSTAMP:20260420T015926
CREATED:20250430T125043Z
LAST-MODIFIED:20250430T125043Z
UID:2426-1746959400-1747000800@darkhorseflinthill.com
SUMMARY:Mother's Day Brunch or Dinner!
DESCRIPTION:Treat Mum to brunch! Raise a toast with us to the queen of our hearts with a cozy delicious brunch or dinner! \nReservations strongly encouraged!
URL:https://darkhorseflinthill.com/event-calendar/mothers-day-brunch-or-dinner/
LOCATION:VA
ATTACH;FMTTYPE=image/jpeg:https://darkhorseflinthill.com/wp-content/uploads/2025/04/Mothers-Day-Menu-2025.jpg
END:VEVENT
BEGIN:VEVENT
DTSTART;TZID=America/New_York:20250419T190000
DTEND;TZID=America/New_York:20250419T220000
DTSTAMP:20260420T015926
CREATED:20250328T152735Z
LAST-MODIFIED:20250328T152735Z
UID:2401-1745089200-1745100000@darkhorseflinthill.com
SUMMARY:Heavies Duo
DESCRIPTION:A duo from Bobby G playing blues\, classic rock\, country\, 90s and today’s tunes\, Acoustic rock!
URL:https://darkhorseflinthill.com/event-calendar/heavies-duo/
LOCATION:VA
ATTACH;FMTTYPE=image/jpeg:https://darkhorseflinthill.com/wp-content/uploads/2025/03/heavies2.jpg
END:VEVENT
BEGIN:VEVENT
DTSTART;TZID=America/New_York:20250222T190000
DTEND;TZID=America/New_York:20250222T220000
DTSTAMP:20260420T015926
CREATED:20250127T153145Z
LAST-MODIFIED:20250127T153145Z
UID:2387-1740250800-1740261600@darkhorseflinthill.com
SUMMARY:Two's Company
DESCRIPTION:Yeehaw! Vicki Marie has teamed up with Eddie Pockey for a dynamic night of country singing and rockabilly ! Come check them out and be ready to dance!
URL:https://darkhorseflinthill.com/event-calendar/twos-company/
LOCATION:VA
ATTACH;FMTTYPE=image/jpeg:https://darkhorseflinthill.com/wp-content/uploads/2025/01/Twos-Companay.jpg
END:VEVENT
BEGIN:VEVENT
DTSTART;TZID=America/New_York:20250118T190000
DTEND;TZID=America/New_York:20250118T220000
DTSTAMP:20260420T015926
CREATED:20250105T211927Z
LAST-MODIFIED:20250105T211927Z
UID:2366-1737226800-1737237600@darkhorseflinthill.com
SUMMARY:The Tresle Walkers
DESCRIPTION:Presenting The Trestle Walkers\, featuring Randy Lilleston and Charles McCullough\, formerly of the late\, great Hypnotic Willie! Randy and Charles will dish out a mess of originals and covers\, from bawlers to brawlers\, mined from the bedrock of primal rock ‘n roll\, country\, blues\, folk\, and red dirt Americana.
URL:https://darkhorseflinthill.com/event-calendar/the-tresle-walkers/
LOCATION:VA
ATTACH;FMTTYPE=image/jpeg:https://darkhorseflinthill.com/wp-content/uploads/2025/01/charles.jpg
END:VEVENT
BEGIN:VEVENT
DTSTART;VALUE=DATE:20250106
DTEND;VALUE=DATE:20250107
DTSTAMP:20260420T015926
CREATED:20250104T182232Z
LAST-MODIFIED:20250104T182232Z
UID:2362-1736121600-1736207999@darkhorseflinthill.com
SUMMARY:Closed due to snow!
DESCRIPTION:
URL:https://darkhorseflinthill.com/event-calendar/closed-due-to-snow/
LOCATION:VA
ATTACH;FMTTYPE=image/png:https://darkhorseflinthill.com/wp-content/uploads/2025/01/Sunday-hours-1030-8pm-Monday-CLOSED.png
END:VEVENT
BEGIN:VEVENT
DTSTART;TZID=America/New_York:20250105T200000
DTEND;TZID=America/New_York:20250105T200000
DTSTAMP:20260420T015926
CREATED:20250104T181911Z
LAST-MODIFIED:20250104T181911Z
UID:2360-1736107200-1736107200@darkhorseflinthill.com
SUMMARY:Closing at 8pm due to snow
DESCRIPTION:
URL:https://darkhorseflinthill.com/event-calendar/closing-at-8pm-due-to-snow/
LOCATION:VA
END:VEVENT
BEGIN:VEVENT
DTSTART;TZID=America/New_York:20250104T140000
DTEND;TZID=America/New_York:20250104T170000
DTSTAMP:20260420T015926
CREATED:20230413T235137Z
LAST-MODIFIED:20241231T180701Z
UID:1900-1735999200-1736010000@darkhorseflinthill.com
SUMMARY:Medicine Wind
DESCRIPTION:Medicine Wind is a duo with Kevin Ball and Lucille Jackson Ball. With an eclectic mix of classic rock\, folk\, country\, blues and Americana Roots\, they’ve been providing entertainment around the Eastern Region of the USA since 1995. Medicine Wind believes their mission is to spread Good Medicine in the Wind through the incredible gift of music!
URL:https://darkhorseflinthill.com/event-calendar/medicine-wind/
LOCATION:The Dark Horse Irish Pub\, 659 Zachary Taylor Hwy\, Flint Hill\, VA\, 22627\, United States
CATEGORIES:Music
ATTACH;FMTTYPE=image/jpeg:https://darkhorseflinthill.com/wp-content/uploads/2023/04/medicine-wind.jpg
END:VEVENT
BEGIN:VEVENT
DTSTART;TZID=America/New_York:20241231T203000
DTEND;TZID=America/New_York:20250101T003000
DTSTAMP:20260420T015926
CREATED:20241201T170710Z
LAST-MODIFIED:20241201T170710Z
UID:2351-1735677000-1735691400@darkhorseflinthill.com
SUMMARY:New Year's Eve Dinner and Party!
DESCRIPTION:It’s that time of year! Call 540-675-3227 \, dinner service starts at 4pm\n\nMake your reservations now for an extraordinary evening filled with Live Music with Five by Five band playing our favorite dance tunes 8:30-12:30am !\nIndulge in delicious dinner specials\, sip on expertly crafted cocktails\, beer and local wine. Raise a glass of champagne with friends as we count down the New Year together in style at The Dark Horse Irish Pub!
URL:https://darkhorseflinthill.com/event-calendar/new-years-eve-dinner-and-party/
LOCATION:VA
ATTACH;FMTTYPE=image/jpeg:https://darkhorseflinthill.com/wp-content/uploads/2024/12/2025-1.jpg
END:VEVENT
BEGIN:VEVENT
DTSTART;TZID=America/New_York:20241228T190000
DTEND;TZID=America/New_York:20241228T220000
DTSTAMP:20260420T015926
CREATED:20241120T212715Z
LAST-MODIFIED:20241120T212715Z
UID:2345-1735412400-1735423200@darkhorseflinthill.com
SUMMARY:Paul Luttrell
DESCRIPTION:Acoustic country music singer!!
URL:https://darkhorseflinthill.com/event-calendar/paul-luttrell/
LOCATION:VA
ATTACH;FMTTYPE=image/jpeg:https://darkhorseflinthill.com/wp-content/uploads/2024/11/paul-luttrell.jpg
END:VEVENT
BEGIN:VEVENT
DTSTART;VALUE=DATE:20241225
DTEND;VALUE=DATE:20241226
DTSTAMP:20260420T015926
CREATED:20241223T014800Z
LAST-MODIFIED:20241223T014800Z
UID:2357-1735084800-1735171199@darkhorseflinthill.com
SUMMARY:Closed! Merry Christmas!
DESCRIPTION:
URL:https://darkhorseflinthill.com/event-calendar/closed-merry-christmas-2/
LOCATION:VA
ATTACH;FMTTYPE=image/webp:https://darkhorseflinthill.com/wp-content/uploads/2023/12/closed-christmas-day.webp
END:VEVENT
BEGIN:VEVENT
DTSTART;TZID=America/New_York:20241224T160000
DTEND;TZID=America/New_York:20241224T220000
DTSTAMP:20260420T015926
CREATED:20241223T014623Z
LAST-MODIFIED:20241223T014623Z
UID:2355-1735056000-1735077600@darkhorseflinthill.com
SUMMARY:Closing at 4pm
DESCRIPTION:The kitchen will close at 3pm today for Christmas eve! \nMerry Christmas!
URL:https://darkhorseflinthill.com/event-calendar/closing-at-4pm/
LOCATION:VA
END:VEVENT
BEGIN:VEVENT
DTSTART;TZID=America/New_York:20241220T190000
DTEND;TZID=America/New_York:20241220T220000
DTSTAMP:20260420T015926
CREATED:20231113T220647Z
LAST-MODIFIED:20241210T002704Z
UID:2102-1734721200-1734732000@darkhorseflinthill.com
SUMMARY:UGLY Christmas Sweater night with Mark Clay
DESCRIPTION:Mark Clay will be playing and we’ll be looking for the best ugly Christmas sweater! $25. gift card to our winner!
URL:https://darkhorseflinthill.com/event-calendar/ugly-christmas-sweater-night/
LOCATION:VA
ATTACH;FMTTYPE=image/jpeg:https://darkhorseflinthill.com/wp-content/uploads/2023/11/uglycontest.jpg
END:VEVENT
END:VCALENDAR