BEGIN:VCALENDAR
VERSION:2.0
PRODID:-//DarkHorse - ECPv6.15.12.2//NONSGML v1.0//EN
CALSCALE:GREGORIAN
METHOD:PUBLISH
X-ORIGINAL-URL:https://darkhorseflinthill.com
X-WR-CALDESC:Events for DarkHorse
REFRESH-INTERVAL;VALUE=DURATION:PT1H
X-Robots-Tag:noindex
X-PUBLISHED-TTL:PT1H
BEGIN:VTIMEZONE
TZID:America/New_York
BEGIN:DAYLIGHT
TZOFFSETFROM:-0500
TZOFFSETTO:-0400
TZNAME:EDT
DTSTART:20250309T070000
END:DAYLIGHT
BEGIN:STANDARD
TZOFFSETFROM:-0400
TZOFFSETTO:-0500
TZNAME:EST
DTSTART:20251102T060000
END:STANDARD
BEGIN:DAYLIGHT
TZOFFSETFROM:-0500
TZOFFSETTO:-0400
TZNAME:EDT
DTSTART:20260308T070000
END:DAYLIGHT
BEGIN:STANDARD
TZOFFSETFROM:-0400
TZOFFSETTO:-0500
TZNAME:EST
DTSTART:20261101T060000
END:STANDARD
BEGIN:DAYLIGHT
TZOFFSETFROM:-0500
TZOFFSETTO:-0400
TZNAME:EDT
DTSTART:20270314T070000
END:DAYLIGHT
BEGIN:STANDARD
TZOFFSETFROM:-0400
TZOFFSETTO:-0500
TZNAME:EST
DTSTART:20271107T060000
END:STANDARD
END:VTIMEZONE
BEGIN:VEVENT
DTSTART;TZID=America/New_York:20260418T190000
DTEND;TZID=America/New_York:20260418T220000
DTSTAMP:20260419T091652
CREATED:20260221T202857Z
LAST-MODIFIED:20260221T202857Z
UID:2643-1776538800-1776549600@darkhorseflinthill.com
SUMMARY:Bailey Hayes
DESCRIPTION:Bailey is a talented local musician whose setlist contains an eclectic range of music … anywhere from country\, classic rock\, pop/soul\, to folk; original music\, and more! The energy and soulful melodies that he brings to his live shows will warm your heart and mind\, and maybe even get you on the dance floor!
URL:https://darkhorseflinthill.com/event-calendar/bailey-hayes-4/
LOCATION:The Dark Horse Irish Pub\, 659 Zachary Taylor Hwy\, Flint Hill\, VA\, 22627\, United States
CATEGORIES:Music
ATTACH;FMTTYPE=image/jpeg:https://darkhorseflinthill.com/wp-content/uploads/2026/02/Bailey-hayes.jpg
END:VEVENT
END:VCALENDAR