BEGIN:VCALENDAR
VERSION:2.0
PRODID:-//DarkHorse - ECPv6.15.12.2//NONSGML v1.0//EN
CALSCALE:GREGORIAN
METHOD:PUBLISH
X-WR-CALNAME:DarkHorse
X-ORIGINAL-URL:https://darkhorseflinthill.com
X-WR-CALDESC:Events for DarkHorse
REFRESH-INTERVAL;VALUE=DURATION:PT1H
X-Robots-Tag:noindex
X-PUBLISHED-TTL:PT1H
BEGIN:VTIMEZONE
TZID:America/New_York
BEGIN:DAYLIGHT
TZOFFSETFROM:-0500
TZOFFSETTO:-0400
TZNAME:EDT
DTSTART:20250309T070000
END:DAYLIGHT
BEGIN:STANDARD
TZOFFSETFROM:-0400
TZOFFSETTO:-0500
TZNAME:EST
DTSTART:20251102T060000
END:STANDARD
BEGIN:DAYLIGHT
TZOFFSETFROM:-0500
TZOFFSETTO:-0400
TZNAME:EDT
DTSTART:20260308T070000
END:DAYLIGHT
BEGIN:STANDARD
TZOFFSETFROM:-0400
TZOFFSETTO:-0500
TZNAME:EST
DTSTART:20261101T060000
END:STANDARD
BEGIN:DAYLIGHT
TZOFFSETFROM:-0500
TZOFFSETTO:-0400
TZNAME:EDT
DTSTART:20270314T070000
END:DAYLIGHT
BEGIN:STANDARD
TZOFFSETFROM:-0400
TZOFFSETTO:-0500
TZNAME:EST
DTSTART:20271107T060000
END:STANDARD
END:VTIMEZONE
BEGIN:VEVENT
DTSTART;TZID=America/New_York:20260410T190000
DTEND;TZID=America/New_York:20260410T220000
DTSTAMP:20260419T111335
CREATED:20260221T202257Z
LAST-MODIFIED:20260221T202257Z
UID:2637-1775847600-1775858400@darkhorseflinthill.com
SUMMARY:Ryan Jewel
DESCRIPTION:When classic country and the new radio sound cross paths\, you get Ryan Jewel. Ryan’s here to bring back a true country music sound\, that resonates with the young and older generations\, alike. Ryan writes and sings the songs that real country music fans can relate to. From country lovin’ to a cold beer\, even the classic country heartbreak ballad\, Ryan’s music is relatable to any country music listener. His rich\, baritone vocals\, paired with authentic songwriting\, which reflect his own life experiences\, have helped build a strong fan base who enjoys the “what you see is what you get” style of shows and demeanor.
URL:https://darkhorseflinthill.com/event-calendar/ryan-jewel-4/
LOCATION:The Dark Horse Irish Pub\, 659 Zachary Taylor Hwy\, Flint Hill\, VA\, 22627\, United States
CATEGORIES:Music
ATTACH;FMTTYPE=image/jpeg:https://darkhorseflinthill.com/wp-content/uploads/2026/01/Ryan-Jewel-Pic-scaled.jpg
END:VEVENT
END:VCALENDAR