BEGIN:VCALENDAR
VERSION:2.0
PRODID:-//DarkHorse - ECPv6.15.12.2//NONSGML v1.0//EN
CALSCALE:GREGORIAN
METHOD:PUBLISH
X-ORIGINAL-URL:https://darkhorseflinthill.com
X-WR-CALDESC:Events for DarkHorse
REFRESH-INTERVAL;VALUE=DURATION:PT1H
X-Robots-Tag:noindex
X-PUBLISHED-TTL:PT1H
BEGIN:VTIMEZONE
TZID:America/New_York
BEGIN:DAYLIGHT
TZOFFSETFROM:-0500
TZOFFSETTO:-0400
TZNAME:EDT
DTSTART:20250309T070000
END:DAYLIGHT
BEGIN:STANDARD
TZOFFSETFROM:-0400
TZOFFSETTO:-0500
TZNAME:EST
DTSTART:20251102T060000
END:STANDARD
BEGIN:DAYLIGHT
TZOFFSETFROM:-0500
TZOFFSETTO:-0400
TZNAME:EDT
DTSTART:20260308T070000
END:DAYLIGHT
BEGIN:STANDARD
TZOFFSETFROM:-0400
TZOFFSETTO:-0500
TZNAME:EST
DTSTART:20261101T060000
END:STANDARD
BEGIN:DAYLIGHT
TZOFFSETFROM:-0500
TZOFFSETTO:-0400
TZNAME:EDT
DTSTART:20270314T070000
END:DAYLIGHT
BEGIN:STANDARD
TZOFFSETFROM:-0400
TZOFFSETTO:-0500
TZNAME:EST
DTSTART:20271107T060000
END:STANDARD
END:VTIMEZONE
BEGIN:VEVENT
DTSTART;TZID=America/New_York:20260306T190000
DTEND;TZID=America/New_York:20260306T220000
DTSTAMP:20260419T130350
CREATED:20260221T173620Z
LAST-MODIFIED:20260221T173620Z
UID:2611-1772823600-1772834400@darkhorseflinthill.com
SUMMARY:Christopher Rall
DESCRIPTION: Chris is a virtual jukebox and his music spans from the 1940 to present.  He has been playing in the Northern Virginia area for well over 25 years.  Not only is he a skilled guitarist \, keyboardist and vocalist\, he also has the ability to interact seamlessly with his audience. 
URL:https://darkhorseflinthill.com/event-calendar/christopher-rall-2/
LOCATION:The Dark Horse Irish Pub\, 659 Zachary Taylor Hwy\, Flint Hill\, VA\, 22627\, United States
CATEGORIES:Music
ATTACH;FMTTYPE=image/jpeg:https://darkhorseflinthill.com/wp-content/uploads/2026/02/Christopher-Rall.jpg
END:VEVENT
END:VCALENDAR