BEGIN:VCALENDAR
VERSION:2.0
PRODID:-//DarkHorse - ECPv6.15.12.2//NONSGML v1.0//EN
CALSCALE:GREGORIAN
METHOD:PUBLISH
X-WR-CALNAME:DarkHorse
X-ORIGINAL-URL:https://darkhorseflinthill.com
X-WR-CALDESC:Events for DarkHorse
REFRESH-INTERVAL;VALUE=DURATION:PT1H
X-Robots-Tag:noindex
X-PUBLISHED-TTL:PT1H
BEGIN:VTIMEZONE
TZID:America/New_York
BEGIN:DAYLIGHT
TZOFFSETFROM:-0500
TZOFFSETTO:-0400
TZNAME:EDT
DTSTART:20230312T070000
END:DAYLIGHT
BEGIN:STANDARD
TZOFFSETFROM:-0400
TZOFFSETTO:-0500
TZNAME:EST
DTSTART:20231105T060000
END:STANDARD
BEGIN:DAYLIGHT
TZOFFSETFROM:-0500
TZOFFSETTO:-0400
TZNAME:EDT
DTSTART:20240310T070000
END:DAYLIGHT
BEGIN:STANDARD
TZOFFSETFROM:-0400
TZOFFSETTO:-0500
TZNAME:EST
DTSTART:20241103T060000
END:STANDARD
BEGIN:DAYLIGHT
TZOFFSETFROM:-0500
TZOFFSETTO:-0400
TZNAME:EDT
DTSTART:20250309T070000
END:DAYLIGHT
BEGIN:STANDARD
TZOFFSETFROM:-0400
TZOFFSETTO:-0500
TZNAME:EST
DTSTART:20251102T060000
END:STANDARD
END:VTIMEZONE
BEGIN:VEVENT
DTSTART;TZID=America/New_York:20241027T100000
DTEND;TZID=America/New_York:20241027T130000
DTSTAMP:20260420T103003
CREATED:20240925T225113Z
LAST-MODIFIED:20240925T225113Z
UID:2311-1730023200-1730034000@darkhorseflinthill.com
SUMMARY:Yappy Hour!
DESCRIPTION:The Dark Horse Irish Pub is going to hold a Yappy Hour on October 27th from 2pm-5pm. There will be a Costume Contest :1st will get a gift card\, 2nd will get a Dark Horse Sweatshirt\, 3rd will get a Dark Horse  Cap\, Dog Menu\, Pup Cups\, Homemade Dog Treats\, Scavenger Hunt\, Photo Booth. Bring your leashed and dressed up Well Behaved Babies and join in the fun.
URL:https://darkhorseflinthill.com/event-calendar/yappy-hour/
LOCATION:VA
ATTACH;FMTTYPE=image/jpeg:https://darkhorseflinthill.com/wp-content/uploads/2024/09/461265892_501766649497394_7459448153238809048_n.jpg
END:VEVENT
END:VCALENDAR