BEGIN:VCALENDAR
VERSION:2.0
PRODID:-//DarkHorse - ECPv6.15.12.2//NONSGML v1.0//EN
CALSCALE:GREGORIAN
METHOD:PUBLISH
X-WR-CALNAME:DarkHorse
X-ORIGINAL-URL:https://darkhorseflinthill.com
X-WR-CALDESC:Events for DarkHorse
REFRESH-INTERVAL;VALUE=DURATION:PT1H
X-Robots-Tag:noindex
X-PUBLISHED-TTL:PT1H
BEGIN:VTIMEZONE
TZID:America/New_York
BEGIN:DAYLIGHT
TZOFFSETFROM:-0500
TZOFFSETTO:-0400
TZNAME:EDT
DTSTART:20230312T070000
END:DAYLIGHT
BEGIN:STANDARD
TZOFFSETFROM:-0400
TZOFFSETTO:-0500
TZNAME:EST
DTSTART:20231105T060000
END:STANDARD
BEGIN:DAYLIGHT
TZOFFSETFROM:-0500
TZOFFSETTO:-0400
TZNAME:EDT
DTSTART:20240310T070000
END:DAYLIGHT
BEGIN:STANDARD
TZOFFSETFROM:-0400
TZOFFSETTO:-0500
TZNAME:EST
DTSTART:20241103T060000
END:STANDARD
BEGIN:DAYLIGHT
TZOFFSETFROM:-0500
TZOFFSETTO:-0400
TZNAME:EDT
DTSTART:20250309T070000
END:DAYLIGHT
BEGIN:STANDARD
TZOFFSETFROM:-0400
TZOFFSETTO:-0500
TZNAME:EST
DTSTART:20251102T060000
END:STANDARD
END:VTIMEZONE
BEGIN:VEVENT
DTSTART;TZID=America/New_York:20240706T150000
DTEND;TZID=America/New_York:20240706T180000
DTSTAMP:20260420T153507
CREATED:20230815T220808Z
LAST-MODIFIED:20240524T180526Z
UID:2047-1720278000-1720288800@darkhorseflinthill.com
SUMMARY:Blue Ridge Bandits
DESCRIPTION:Blue Ridge Bandits are a Sister-Duo from the foothills of the Blue Ridge Mountains. Together\, they create visual and meaningful music with sweeping blood-harmonies and powerful lyrics. The Americana Roots singers’ have an EP\, In the Middle\, which brings light to the parts of ourselves that need to be seen and heard. With a decade of collective time on stage\, and a lifetime of sisterhood\, they bring the medicine of music to those around them each time they step to the stage.
URL:https://darkhorseflinthill.com/event-calendar/katie-and-kelly/
LOCATION:VA
ATTACH;FMTTYPE=image/jpeg:https://darkhorseflinthill.com/wp-content/uploads/2023/08/bandits-no-date.jpg
END:VEVENT
END:VCALENDAR